BEGIN:VCALENDAR
VERSION:2.0
PRODID:-//hacksw/handcal//NONSGML v1.0//EN
CALSCALE:GREGORIAN
BEGIN:VEVENT
DTEND:20070831T230000Z
UID:69e92cbc2a08b
DTSTAMP:20260422T211700Z
LOCATION:0 
DESCRIPTION:
URL;VALUE=URI:
SUMMARY:21. Int. Schevener Volkslauf
DTSTART:20070831T230000Z
END:VEVENT
END:VCALENDAR
An internal server error occurred.