BEGIN:VCALENDAR
VERSION:2.0
PRODID:-//hacksw/handcal//NONSGML v1.0//EN
CALSCALE:GREGORIAN
BEGIN:VEVENT
DTEND:20070831T230000Z
UID:69e956a19bdf1
DTSTAMP:20260423T001545Z
LOCATION:0 
DESCRIPTION:
URL;VALUE=URI:
SUMMARY:13. Lindhoop - Volkslauf
DTSTART:20070831T230000Z
END:VEVENT
END:VCALENDAR
An internal server error occurred.