BEGIN:VCALENDAR
VERSION:2.0
PRODID:-//hacksw/handcal//NONSGML v1.0//EN
CALSCALE:GREGORIAN
BEGIN:VEVENT
DTEND:20070831T230000Z
UID:69e95691cbca9
DTSTAMP:20260423T001529Z
LOCATION:0 
DESCRIPTION:
URL;VALUE=URI:
SUMMARY:6. Heimertshäuser Waschteichlauf
DTSTART:20070831T230000Z
END:VEVENT
END:VCALENDAR
An internal server error occurred.