BEGIN:VCALENDAR
VERSION:2.0
PRODID:-//hacksw/handcal//NONSGML v1.0//EN
CALSCALE:GREGORIAN
BEGIN:VEVENT
DTEND:20070831T230000Z
UID:69e9879791c71
DTSTAMP:20260423T034439Z
LOCATION:0 
DESCRIPTION:
URL;VALUE=URI:
SUMMARY:20. Südseitenlauf/17. Dithmarschen-Cup 2007
DTSTART:20070831T230000Z
END:VEVENT
END:VCALENDAR
An internal server error occurred.