BEGIN:VCALENDAR
VERSION:2.0
PRODID:-//hacksw/handcal//NONSGML v1.0//EN
CALSCALE:GREGORIAN
BEGIN:VEVENT
DTEND:20070831T230000Z
UID:69e9bcce53aef
DTSTAMP:20260423T073142Z
LOCATION:0 
DESCRIPTION:
URL;VALUE=URI:
SUMMARY:Leyendecker Nordic Walking
DTSTART:20070831T230000Z
END:VEVENT
END:VCALENDAR
An internal server error occurred.