BEGIN:VCALENDAR
VERSION:2.0
PRODID:-//hacksw/handcal//NONSGML v1.0//EN
CALSCALE:GREGORIAN
BEGIN:VEVENT
DTEND:20070830T230000Z
UID:69e9bcd4a7d5b
DTSTAMP:20260423T073148Z
LOCATION:0 
DESCRIPTION:
URL;VALUE=URI:
SUMMARY:1. Heideblütenlauf
DTSTART:20070830T230000Z
END:VEVENT
END:VCALENDAR
An internal server error occurred.