BEGIN:VCALENDAR
VERSION:2.0
PRODID:-//hacksw/handcal//NONSGML v1.0//EN
CALSCALE:GREGORIAN
BEGIN:VEVENT
DTEND:20070827T230000Z
UID:69ebf5fa29d43
DTSTAMP:20260425T000010Z
LOCATION:0 
DESCRIPTION:
URL;VALUE=URI:
SUMMARY:18. Wurzacher Stadtlauf um den Riedpokal
DTSTART:20070827T230000Z
END:VEVENT
END:VCALENDAR
An internal server error occurred.