BEGIN:VCALENDAR
VERSION:2.0
PRODID:-//hacksw/handcal//NONSGML v1.0//EN
CALSCALE:GREGORIAN
BEGIN:VEVENT
DTEND:20070825T230000Z
UID:69e92cc3532c4
DTSTAMP:20260422T211707Z
LOCATION:0 
DESCRIPTION:
URL;VALUE=URI:
SUMMARY:29. Nationaler Koberstädter Wald-Marathon
DTSTART:20070825T230000Z
END:VEVENT
END:VCALENDAR
An internal server error occurred.