BEGIN:VCALENDAR
VERSION:2.0
PRODID:-//hacksw/handcal//NONSGML v1.0//EN
CALSCALE:GREGORIAN
BEGIN:VEVENT
DTEND:20070825T230000Z
UID:69ece7a71a83c
DTSTAMP:20260425T171119Z
LOCATION:0 
DESCRIPTION:
URL;VALUE=URI:
SUMMARY:2. Internationaler Straßenfestlauf- Walking
DTSTART:20070825T230000Z
END:VEVENT
END:VCALENDAR
An internal server error occurred.