BEGIN:VCALENDAR
VERSION:2.0
PRODID:-//hacksw/handcal//NONSGML v1.0//EN
CALSCALE:GREGORIAN
BEGIN:VEVENT
DTEND:20070824T230000Z
UID:69e92cbbbf7d7
DTSTAMP:20260422T211659Z
LOCATION:0 
DESCRIPTION:
URL;VALUE=URI:
SUMMARY:Osnabrücker Land-Marathon
DTSTART:20070824T230000Z
END:VEVENT
END:VCALENDAR
An internal server error occurred.