BEGIN:VCALENDAR
VERSION:2.0
PRODID:-//hacksw/handcal//NONSGML v1.0//EN
CALSCALE:GREGORIAN
BEGIN:VEVENT
DTEND:20070824T230000Z
UID:69e9adc64162e
DTSTAMP:20260423T062734Z
LOCATION:0 
DESCRIPTION:
URL;VALUE=URI:
SUMMARY:11. Zweidorfer Nachtlauf
DTSTART:20070824T230000Z
END:VEVENT
END:VCALENDAR
An internal server error occurred.