BEGIN:VCALENDAR
VERSION:2.0
PRODID:-//hacksw/handcal//NONSGML v1.0//EN
CALSCALE:GREGORIAN
BEGIN:VEVENT
DTEND:20070824T230000Z
UID:69e8a220acb47
DTSTAMP:20260422T112536Z
LOCATION:0 
DESCRIPTION:
URL;VALUE=URI:
SUMMARY:18. Körler Volkslauf
DTSTART:20070824T230000Z
END:VEVENT
END:VCALENDAR
An internal server error occurred.