BEGIN:VCALENDAR
VERSION:2.0
PRODID:-//hacksw/handcal//NONSGML v1.0//EN
CALSCALE:GREGORIAN
BEGIN:VEVENT
DTEND:20070824T230000Z
UID:69ecb7fd5d24a
DTSTAMP:20260425T134757Z
LOCATION:0 
DESCRIPTION:
URL;VALUE=URI:
SUMMARY:30. Lu-Lauf Halb- und Viertelmarathon
DTSTART:20070824T230000Z
END:VEVENT
END:VCALENDAR
An internal server error occurred.