BEGIN:VCALENDAR
VERSION:2.0
PRODID:-//hacksw/handcal//NONSGML v1.0//EN
CALSCALE:GREGORIAN
BEGIN:VEVENT
DTEND:20070824T230000Z
UID:69e972bc9569a
DTSTAMP:20260423T021540Z
LOCATION:0 
DESCRIPTION:
URL;VALUE=URI:
SUMMARY:23. Salzkottener Hederauenlauf
DTSTART:20070824T230000Z
END:VEVENT
END:VCALENDAR
An internal server error occurred.