BEGIN:VCALENDAR
VERSION:2.0
PRODID:-//hacksw/handcal//NONSGML v1.0//EN
CALSCALE:GREGORIAN
BEGIN:VEVENT
DTEND:20070823T230000Z
UID:69e95aebd536f
DTSTAMP:20260423T003403Z
LOCATION:0 
DESCRIPTION:
URL;VALUE=URI:
SUMMARY:1. Heseper-Abend-Volkslauf
DTSTART:20070823T230000Z
END:VEVENT
END:VCALENDAR
An internal server error occurred.