BEGIN:VCALENDAR
VERSION:2.0
PRODID:-//hacksw/handcal//NONSGML v1.0//EN
CALSCALE:GREGORIAN
BEGIN:VEVENT
DTEND:20070823T230000Z
UID:69e95ab72e2e7
DTSTAMP:20260423T003311Z
LOCATION:0 
DESCRIPTION:
URL;VALUE=URI:
SUMMARY:7. Ludwigsfelder Illerlauf
DTSTART:20070823T230000Z
END:VEVENT
END:VCALENDAR
An internal server error occurred.