BEGIN:VCALENDAR
VERSION:2.0
PRODID:-//hacksw/handcal//NONSGML v1.0//EN
CALSCALE:GREGORIAN
BEGIN:VEVENT
DTEND:20070823T230000Z
UID:69e8f99da7bfd
DTSTAMP:20260422T173853Z
LOCATION:0 
DESCRIPTION:
URL;VALUE=URI:
SUMMARY:Zugspitzlauf
DTSTART:20070823T230000Z
END:VEVENT
END:VCALENDAR
An internal server error occurred.