BEGIN:VCALENDAR
VERSION:2.0
PRODID:-//hacksw/handcal//NONSGML v1.0//EN
CALSCALE:GREGORIAN
BEGIN:VEVENT
DTEND:20070821T230000Z
UID:69e987a7be023
DTSTAMP:20260423T034455Z
LOCATION:0 
DESCRIPTION:
URL;VALUE=URI:
SUMMARY:Marzahner Läufer-Cup (5. Lauf)
DTSTART:20070821T230000Z
END:VEVENT
END:VCALENDAR
An internal server error occurred.