BEGIN:VCALENDAR
VERSION:2.0
PRODID:-//hacksw/handcal//NONSGML v1.0//EN
CALSCALE:GREGORIAN
BEGIN:VEVENT
DTEND:20070821T230000Z
UID:69e942f208ab6
DTSTAMP:20260422T225146Z
LOCATION:0 
DESCRIPTION:
URL;VALUE=URI:
SUMMARY:2. Bokeler Windmühlen Lauf
DTSTART:20070821T230000Z
END:VEVENT
END:VCALENDAR
An internal server error occurred.