BEGIN:VCALENDAR
VERSION:2.0
PRODID:-//hacksw/handcal//NONSGML v1.0//EN
CALSCALE:GREGORIAN
BEGIN:VEVENT
DTEND:20070818T230000Z
UID:69e95ad2d73cb
DTSTAMP:20260423T003338Z
LOCATION:0 
DESCRIPTION:
URL;VALUE=URI:
SUMMARY:Rund um den Beerster See
DTSTART:20070818T230000Z
END:VEVENT
END:VCALENDAR
An internal server error occurred.