BEGIN:VCALENDAR
VERSION:2.0
PRODID:-//hacksw/handcal//NONSGML v1.0//EN
CALSCALE:GREGORIAN
BEGIN:VEVENT
DTEND:20070818T230000Z
UID:69ed74afa8f0c
DTSTAMP:20260426T031303Z
LOCATION:0 
DESCRIPTION:
URL;VALUE=URI:
SUMMARY:24. Rund  um die  Aabachtalsperre - E.ON-Westfalen-Weser-Lauf -
DTSTART:20070818T230000Z
END:VEVENT
END:VCALENDAR
An internal server error occurred.