BEGIN:VCALENDAR
VERSION:2.0
PRODID:-//hacksw/handcal//NONSGML v1.0//EN
CALSCALE:GREGORIAN
BEGIN:VEVENT
DTEND:20070818T230000Z
UID:69e8f99e06132
DTSTAMP:20260422T173854Z
LOCATION:0 
DESCRIPTION:
URL;VALUE=URI:
SUMMARY:23. Friedenslauf
DTSTART:20070818T230000Z
END:VEVENT
END:VCALENDAR
An internal server error occurred.