BEGIN:VCALENDAR
VERSION:2.0
PRODID:-//hacksw/handcal//NONSGML v1.0//EN
CALSCALE:GREGORIAN
BEGIN:VEVENT
DTEND:20070818T230000Z
UID:69e95699aca80
DTSTAMP:20260423T001537Z
LOCATION:0 
DESCRIPTION:
URL;VALUE=URI:
SUMMARY:24. Großenbroder Sundlauf
DTSTART:20070818T230000Z
END:VEVENT
END:VCALENDAR
An internal server error occurred.