BEGIN:VCALENDAR
VERSION:2.0
PRODID:-//hacksw/handcal//NONSGML v1.0//EN
CALSCALE:GREGORIAN
BEGIN:VEVENT
DTEND:20070817T230000Z
UID:69e86359777ef
DTSTAMP:20260422T065745Z
LOCATION:0 
DESCRIPTION:
URL;VALUE=URI:
SUMMARY:8. Duisburger Innenhafenlauf
DTSTART:20070817T230000Z
END:VEVENT
END:VCALENDAR
An internal server error occurred.