BEGIN:VCALENDAR
VERSION:2.0
PRODID:-//hacksw/handcal//NONSGML v1.0//EN
CALSCALE:GREGORIAN
BEGIN:VEVENT
DTEND:20070817T230000Z
UID:69ed792537291
DTSTAMP:20260426T033205Z
LOCATION:0 
DESCRIPTION:
URL;VALUE=URI:
SUMMARY:18. Leipziger 100-km-Lauf / 12. Leipziger 50-km-Lauf (LM 100 km)
DTSTART:20070817T230000Z
END:VEVENT
END:VCALENDAR
An internal server error occurred.