BEGIN:VCALENDAR
VERSION:2.0
PRODID:-//hacksw/handcal//NONSGML v1.0//EN
CALSCALE:GREGORIAN
BEGIN:VEVENT
DTEND:20070816T230000Z
UID:69e8cbfb58ce7
DTSTAMP:20260422T142411Z
LOCATION:0 
DESCRIPTION:
URL;VALUE=URI:
SUMMARY:14. Lüchower Zehner
DTSTART:20070816T230000Z
END:VEVENT
END:VCALENDAR
An internal server error occurred.