BEGIN:VCALENDAR
VERSION:2.0
PRODID:-//hacksw/handcal//NONSGML v1.0//EN
CALSCALE:GREGORIAN
BEGIN:VEVENT
DTEND:20070816T230000Z
UID:69e9882e676fe
DTSTAMP:20260423T034710Z
LOCATION:0 
DESCRIPTION:
URL;VALUE=URI:
SUMMARY:20. Renquishausener Waldlaufmeisterschaft
DTSTART:20070816T230000Z
END:VEVENT
END:VCALENDAR
An internal server error occurred.