BEGIN:VCALENDAR
VERSION:2.0
PRODID:-//hacksw/handcal//NONSGML v1.0//EN
CALSCALE:GREGORIAN
BEGIN:VEVENT
DTEND:20070814T230000Z
UID:69e8b53dd3769
DTSTAMP:20260422T124709Z
LOCATION:0 
DESCRIPTION:
URL;VALUE=URI:
SUMMARY:24. Bosselbachlauf
DTSTART:20070814T230000Z
END:VEVENT
END:VCALENDAR
An internal server error occurred.