BEGIN:VCALENDAR
VERSION:2.0
PRODID:-//hacksw/handcal//NONSGML v1.0//EN
CALSCALE:GREGORIAN
BEGIN:VEVENT
DTEND:20070813T230000Z
UID:69e988305eed4
DTSTAMP:20260423T034712Z
LOCATION:0 
DESCRIPTION:
URL;VALUE=URI:
SUMMARY:11. Int. Volkslauf Steine an der Grenze
DTSTART:20070813T230000Z
END:VEVENT
END:VCALENDAR
An internal server error occurred.