BEGIN:VCALENDAR
VERSION:2.0
PRODID:-//hacksw/handcal//NONSGML v1.0//EN
CALSCALE:GREGORIAN
BEGIN:VEVENT
DTEND:20070811T230000Z
UID:69e8983fb21af
DTSTAMP:20260422T104327Z
LOCATION:0 
DESCRIPTION:
URL;VALUE=URI:
SUMMARY:7. Rother Kirchweihlauf
DTSTART:20070811T230000Z
END:VEVENT
END:VCALENDAR
An internal server error occurred.