BEGIN:VCALENDAR
VERSION:2.0
PRODID:-//hacksw/handcal//NONSGML v1.0//EN
CALSCALE:GREGORIAN
BEGIN:VEVENT
DTEND:20070811T230000Z
UID:69e8b53c0f277
DTSTAMP:20260422T124708Z
LOCATION:0 
DESCRIPTION:
URL;VALUE=URI:
SUMMARY:13. Hertener Volksduathlon
DTSTART:20070811T230000Z
END:VEVENT
END:VCALENDAR
An internal server error occurred.