BEGIN:VCALENDAR
VERSION:2.0
PRODID:-//hacksw/handcal//NONSGML v1.0//EN
CALSCALE:GREGORIAN
BEGIN:VEVENT
DTEND:20070810T230000Z
UID:69e9569e16cc1
DTSTAMP:20260423T001542Z
LOCATION:0 
DESCRIPTION:
URL;VALUE=URI:
SUMMARY:20. Dachauer Straßenlauf über 10 km
DTSTART:20070810T230000Z
END:VEVENT
END:VCALENDAR
An internal server error occurred.