BEGIN:VCALENDAR
VERSION:2.0
PRODID:-//hacksw/handcal//NONSGML v1.0//EN
CALSCALE:GREGORIAN
BEGIN:VEVENT
DTEND:20070810T230000Z
UID:69ed482a70e28
DTSTAMP:20260426T000306Z
LOCATION:0 
DESCRIPTION:
URL;VALUE=URI:
SUMMARY:3. Volksbank-Beverlauf in Ostbevern
DTSTART:20070810T230000Z
END:VEVENT
END:VCALENDAR
An internal server error occurred.