BEGIN:VCALENDAR
VERSION:2.0
PRODID:-//hacksw/handcal//NONSGML v1.0//EN
CALSCALE:GREGORIAN
BEGIN:VEVENT
DTEND:20070810T230000Z
UID:69e988f0adc0e
DTSTAMP:20260423T035024Z
LOCATION:0 
DESCRIPTION:
URL;VALUE=URI:
SUMMARY:18. Freundschaftslauf um die Riveris mit Walking
DTSTART:20070810T230000Z
END:VEVENT
END:VCALENDAR
An internal server error occurred.