BEGIN:VCALENDAR
VERSION:2.0
PRODID:-//hacksw/handcal//NONSGML v1.0//EN
CALSCALE:GREGORIAN
BEGIN:VEVENT
DTEND:20070809T230000Z
UID:69e863568c385
DTSTAMP:20260422T065742Z
LOCATION:0 
DESCRIPTION:
URL;VALUE=URI:
SUMMARY:7. Müggenmarktlauf
DTSTART:20070809T230000Z
END:VEVENT
END:VCALENDAR
An internal server error occurred.