BEGIN:VCALENDAR
VERSION:2.0
PRODID:-//hacksw/handcal//NONSGML v1.0//EN
CALSCALE:GREGORIAN
BEGIN:VEVENT
DTEND:20070809T230000Z
UID:69e956839da22
DTSTAMP:20260423T001515Z
LOCATION:0 
DESCRIPTION:
URL;VALUE=URI:
SUMMARY:18. MIZUNO - Partnerlauf
DTSTART:20070809T230000Z
END:VEVENT
END:VCALENDAR
An internal server error occurred.