BEGIN:VCALENDAR
VERSION:2.0
PRODID:-//hacksw/handcal//NONSGML v1.0//EN
CALSCALE:GREGORIAN
BEGIN:VEVENT
DTEND:20070807T230000Z
UID:69e994f0a32c3
DTSTAMP:20260423T044136Z
LOCATION:0 
DESCRIPTION:
URL;VALUE=URI:
SUMMARY:VIII. Auewald-Mannschaftslauf
DTSTART:20070807T230000Z
END:VEVENT
END:VCALENDAR
An internal server error occurred.