BEGIN:VCALENDAR
VERSION:2.0
PRODID:-//hacksw/handcal//NONSGML v1.0//EN
CALSCALE:GREGORIAN
BEGIN:VEVENT
DTEND:20070804T230000Z
UID:69ed526a91d4a
DTSTAMP:20260426T004650Z
LOCATION:0 
DESCRIPTION:
URL;VALUE=URI:
SUMMARY:19. Straßenlauf über 10 km im Rahmen des Altstadtfestes
DTSTART:20070804T230000Z
END:VEVENT
END:VCALENDAR
An internal server error occurred.