BEGIN:VCALENDAR
VERSION:2.0
PRODID:-//hacksw/handcal//NONSGML v1.0//EN
CALSCALE:GREGORIAN
BEGIN:VEVENT
DTEND:20070803T230000Z
UID:69e995054e3db
DTSTAMP:20260423T044157Z
LOCATION:0 
DESCRIPTION:
URL;VALUE=URI:
SUMMARY:24. Int. Volks- und Straßenlauf
DTSTART:20070803T230000Z
END:VEVENT
END:VCALENDAR
An internal server error occurred.