BEGIN:VCALENDAR
VERSION:2.0
PRODID:-//hacksw/handcal//NONSGML v1.0//EN
CALSCALE:GREGORIAN
BEGIN:VEVENT
DTEND:20070803T230000Z
UID:69e83f7c7f004
DTSTAMP:20260422T042444Z
LOCATION:0 
DESCRIPTION:
URL;VALUE=URI:
SUMMARY:5. Ueberauer Dorflauf
DTSTART:20070803T230000Z
END:VEVENT
END:VCALENDAR
An internal server error occurred.