BEGIN:VCALENDAR
VERSION:2.0
PRODID:-//hacksw/handcal//NONSGML v1.0//EN
CALSCALE:GREGORIAN
BEGIN:VEVENT
DTEND:20070803T230000Z
UID:69e859d9bd410
DTSTAMP:20260422T061713Z
LOCATION:0 
DESCRIPTION:
URL;VALUE=URI:
SUMMARY:12. Deifelder Abendlauf
DTSTART:20070803T230000Z
END:VEVENT
END:VCALENDAR
An internal server error occurred.