BEGIN:VCALENDAR
VERSION:2.0
PRODID:-//hacksw/handcal//NONSGML v1.0//EN
CALSCALE:GREGORIAN
BEGIN:VEVENT
DTEND:20070803T230000Z
UID:69e855e7c6fa4
DTSTAMP:20260422T060023Z
LOCATION:0 
DESCRIPTION:
URL;VALUE=URI:
SUMMARY:23. 20-km-Waldlauf
DTSTART:20070803T230000Z
END:VEVENT
END:VCALENDAR
An internal server error occurred.