BEGIN:VCALENDAR
VERSION:2.0
PRODID:-//hacksw/handcal//NONSGML v1.0//EN
CALSCALE:GREGORIAN
BEGIN:VEVENT
DTEND:20070803T230000Z
UID:69eca17ed6a18
DTSTAMP:20260425T121158Z
LOCATION:0 
DESCRIPTION:
URL;VALUE=URI:
SUMMARY:Halbmarathon Rund um den Schwarzen Mann
DTSTART:20070803T230000Z
END:VEVENT
END:VCALENDAR
An internal server error occurred.