BEGIN:VCALENDAR
VERSION:2.0
PRODID:-//hacksw/handcal//NONSGML v1.0//EN
CALSCALE:GREGORIAN
BEGIN:VEVENT
DTEND:20070803T230000Z
UID:69e867e611b6f
DTSTAMP:20260422T071710Z
LOCATION:0 
DESCRIPTION:
URL;VALUE=URI:
SUMMARY:24. Bellheimer Sommernachtslauf 
DTSTART:20070803T230000Z
END:VEVENT
END:VCALENDAR
An internal server error occurred.