BEGIN:VCALENDAR
VERSION:2.0
PRODID:-//hacksw/handcal//NONSGML v1.0//EN
CALSCALE:GREGORIAN
BEGIN:VEVENT
DTEND:20070802T230000Z
UID:69e85f1aee094
DTSTAMP:20260422T063938Z
LOCATION:0 
DESCRIPTION:
URL;VALUE=URI:
SUMMARY:3. Hattersheimer Sommerlauf
DTSTART:20070802T230000Z
END:VEVENT
END:VCALENDAR
An internal server error occurred.