BEGIN:VCALENDAR
VERSION:2.0
PRODID:-//hacksw/handcal//NONSGML v1.0//EN
CALSCALE:GREGORIAN
BEGIN:VEVENT
DTEND:20070802T230000Z
UID:69ea2fac586a3
DTSTAMP:20260423T154148Z
LOCATION:0 
DESCRIPTION:
URL;VALUE=URI:
SUMMARY:17. Zerbster Heimat-u. Schützenfestlauf
DTSTART:20070802T230000Z
END:VEVENT
END:VCALENDAR
An internal server error occurred.