BEGIN:VCALENDAR
VERSION:2.0
PRODID:-//hacksw/handcal//NONSGML v1.0//EN
CALSCALE:GREGORIAN
BEGIN:VEVENT
DTEND:20070802T230000Z
UID:69e87ea6e49a9
DTSTAMP:20260422T085414Z
LOCATION:0 
DESCRIPTION:
URL;VALUE=URI:
SUMMARY:27. Sommerabendlauf am Auensee
DTSTART:20070802T230000Z
END:VEVENT
END:VCALENDAR
An internal server error occurred.