BEGIN:VCALENDAR
VERSION:2.0
PRODID:-//hacksw/handcal//NONSGML v1.0//EN
CALSCALE:GREGORIAN
BEGIN:VEVENT
DTEND:20070731T230000Z
UID:69e901f2a6614
DTSTAMP:20260422T181426Z
LOCATION:0 
DESCRIPTION:
URL;VALUE=URI:
SUMMARY:22. Berglauf zur Schuhbräualm
DTSTART:20070731T230000Z
END:VEVENT
END:VCALENDAR
An internal server error occurred.