BEGIN:VCALENDAR
VERSION:2.0
PRODID:-//hacksw/handcal//NONSGML v1.0//EN
CALSCALE:GREGORIAN
BEGIN:VEVENT
DTEND:20070731T230000Z
UID:69e9d0f2dc6e4
DTSTAMP:20260423T085738Z
LOCATION:0 
DESCRIPTION:
URL;VALUE=URI:
SUMMARY:3. Sommerabend-Laufserie  4. Lauf
DTSTART:20070731T230000Z
END:VEVENT
END:VCALENDAR
An internal server error occurred.