BEGIN:VCALENDAR
VERSION:2.0
PRODID:-//hacksw/handcal//NONSGML v1.0//EN
CALSCALE:GREGORIAN
BEGIN:VEVENT
DTEND:20070728T230000Z
UID:69e9568b4497a
DTSTAMP:20260423T001523Z
LOCATION:0 
DESCRIPTION:
URL;VALUE=URI:
SUMMARY:31. Volks-Waldlauf der TGS Hausen
DTSTART:20070728T230000Z
END:VEVENT
END:VCALENDAR
An internal server error occurred.